BEGIN:VCALENDAR
VERSION:2.0
PRODID:-//Centre Pauline-Charron - ECPv5.3.1.1//NONSGML v1.0//EN
CALSCALE:GREGORIAN
METHOD:PUBLISH
X-WR-CALNAME:Centre Pauline-Charron
X-ORIGINAL-URL:https://www.lecpc.ca
X-WR-CALDESC:évènements pour Centre Pauline-Charron
BEGIN:VTIMEZONE
TZID:America/Toronto
BEGIN:DAYLIGHT
TZOFFSETFROM:-0500
TZOFFSETTO:-0400
TZNAME:EDT
DTSTART:20200308T070000
END:DAYLIGHT
BEGIN:STANDARD
TZOFFSETFROM:-0400
TZOFFSETTO:-0500
TZNAME:EST
DTSTART:20201101T060000
END:STANDARD
END:VTIMEZONE
BEGIN:VEVENT
DTSTART;TZID=America/Toronto:20201204T070000
DTEND;TZID=America/Toronto:20201204T100000
DTSTAMP:20210423T051151
CREATED:20201010T173832Z
LAST-MODIFIED:20201010T173832Z
UID:2163-1607065200-1607076000@www.lecpc.ca
SUMMARY:Déjeuner Flocons de neige / Snowflake Breakfast
DESCRIPTION:Centre Pauline-Charron / CSCV | 164\, rue Jeanne-Mance\, Ottawa\, ON K1L 6M3\nAchat de billets Boîtes-déjeuner – 20 $ http://bit.ly/CPC-Flocons-de-neige-4dec2020\nLe Déjeuner Flocons de neige est une activité communautaire annuelle de collecte de fonds pour la banque alimentaire Partage Vanier du Centre des services communautaires Vanier. En collaboration avec les commerces locaux\, vous pouvez acheter une boîte-déjeuner continentale remplie de surprises culinaires mettant en vedette des commerçants de notre quartier. Vous pourrez venir chercher votre boîte-déjeuner le vendredi 4 décembre au service au volant du Centre Pauline-Charron situé au 164\, rue Jeanne-Mance de 7h à 10h. Pour les commandes de groupes (plus de 10 boîtes)\, ce sont les bénévoles de TV Rogers qui feront la livraison en personne\, une livraison sur l’émission spéciale du Déjeuner Flocons de neige.\nDate limite pour faire l’achat des boîtes: le 1er décembre.\nN’hésitez pas à communiquer avec Barra Thiom au 613-744-2892 poste 1059 / bthiom@cscvanier.com \nBuy a ticket for a Breakfast Box – $20 http://bit.ly/CPC-Flocons-de-neige-4dec2020\nThe Snowflake Breakfast is a community fundraiser for the Vanier Community Service Centre’s Partage Vanier food bank. In collaboration with local businesses\, you can purchase a continental breakfast box filled with culinary surprises that will showcase the businesses of our neighborhood. You can pick-up your breakfast box Friday December 4th from 7 am to 10 am at the drive through take-out service at Centre Pauline-Charron located at 164\, Jeanne-Mance St. For group orders (over 10 boxes)\, TV Rogers volunteers will deliver the box in person\, a delivery that will be filmed live during the special Snowflake Breakfast show.\nLast date to purchase boxes: December 1st.\nDo not hesitate to communicate with Barra Thiom at 613-744-2892 ext.1059 / bthiom@cscvanier.com
URL:https://www.lecpc.ca/activite/dejeuner-flocons-de-neige-snowflake-breakfast/
LOCATION:Centre Pauline-Charron\, 164\, rue Jeanne-Mance\, Ottawa\, Ontario\, K1L 6M3\, Canada
CATEGORIES:Activité spéciale
END:VEVENT
END:VCALENDAR