BEGIN:VCALENDAR
VERSION:2.0
PRODID:-//Centre Pauline-Charron - ECPv5.3.1.1//NONSGML v1.0//EN
CALSCALE:GREGORIAN
METHOD:PUBLISH
X-WR-CALNAME:Centre Pauline-Charron
X-ORIGINAL-URL:https://www.lecpc.ca
X-WR-CALDESC:évènements pour Centre Pauline-Charron
BEGIN:VTIMEZONE
TZID:America/Toronto
BEGIN:DAYLIGHT
TZOFFSETFROM:-0500
TZOFFSETTO:-0400
TZNAME:EDT
DTSTART:20210314T070000
END:DAYLIGHT
BEGIN:STANDARD
TZOFFSETFROM:-0400
TZOFFSETTO:-0500
TZNAME:EST
DTSTART:20211107T060000
END:STANDARD
END:VTIMEZONE
BEGIN:VEVENT
DTSTART;TZID=America/Toronto:20210325T130000
DTEND;TZID=America/Toronto:20210325T134500
DTSTAMP:20210422T162353
CREATED:20201017T183643Z
LAST-MODIFIED:20210406T202726Z
UID:3126-1616677200-1616679900@www.lecpc.ca
SUMMARY:Exercices Corps à coeur en virtuel SEULEMENT
DESCRIPTION:Exercices corps à coeur en virtuel SEULEMENT\nHeure : 13 h – 13 h 45\nInscription : 7 $ / 2 $ par session (CPC) (plateforme Zoom 5 $)\nAfin de respecter les directives imposées par la province\, les conditions suivantes\nsont en vigueur :\n– distanciation sociale et physique: 2 mètres entre les personnes\n– le port du masque est obligatoire
URL:https://www.lecpc.ca/activite/exercices-corps-a-coeur-6-2021-03-29-2021-03-25/2021-03-25/
CATEGORIES:Activité régulière
END:VEVENT
BEGIN:VEVENT
DTSTART;TZID=America/Toronto:20210325T140000
DTEND;TZID=America/Toronto:20210325T144500
DTSTAMP:20210422T162353
CREATED:20210115T015046Z
LAST-MODIFIED:20210330T190021Z
UID:3155-1616680800-1616683500@www.lecpc.ca
SUMMARY:Exercices Corps à coeur (Zoom seulement)
DESCRIPTION:Exercices Corps à coeur \nHeure : 14 h – 14 h 40\nInscription : plateforme Zoom seulement : 5 $\nResponsable : Monique Sabourin
URL:https://www.lecpc.ca/activite/exercices-corps-a-coeur-zoom-seulement-2021-03-29-2021-03-25/2021-03-25/
LOCATION:Plateforme Zoom\, Canada
CATEGORIES:Activité régulière
END:VEVENT
END:VCALENDAR