BEGIN:VCALENDAR
VERSION:2.0
PRODID:-//Centre Pauline-Charron - ECPv5.3.1.1//NONSGML v1.0//EN
CALSCALE:GREGORIAN
METHOD:PUBLISH
X-WR-CALNAME:Centre Pauline-Charron
X-ORIGINAL-URL:https://www.lecpc.ca
X-WR-CALDESC:évènements pour Centre Pauline-Charron
BEGIN:VTIMEZONE
TZID:America/Toronto
BEGIN:DAYLIGHT
TZOFFSETFROM:-0500
TZOFFSETTO:-0400
TZNAME:EDT
DTSTART:20210314T070000
END:DAYLIGHT
BEGIN:STANDARD
TZOFFSETFROM:-0400
TZOFFSETTO:-0500
TZNAME:EST
DTSTART:20211107T060000
END:STANDARD
END:VTIMEZONE
BEGIN:VEVENT
DTSTART;TZID=America/Toronto:20210127T140000
DTEND;TZID=America/Toronto:20210127T150000
DTSTAMP:20210423T045759
CREATED:20210115T172451Z
LAST-MODIFIED:20210115T181200Z
UID:3065-1611756000-1611759600@www.lecpc.ca
SUMMARY:Exercices ViActive en virtuel
DESCRIPTION:Exercices ViActive\nHeure : 14 h – 15 h\nResponsable : Paulette Chartier\nAfin de respecter les directives imposées par la province\, les conditions suivantes\nsont en vigueur:\n– distanciation sociale et physique: 2 mètres entre les personnes\n– le port du masque est obligatoire\nInscription : 5 $ plateforme Zoom
URL:https://www.lecpc.ca/activite/exercices-viactive-3-2021-01-15/2021-01-27/
LOCATION:Plateforme Zoom\, Canada
CATEGORIES:Activité régulière
END:VEVENT
BEGIN:VEVENT
DTSTART;TZID=America/Toronto:20210127T150000
DTEND;TZID=America/Toronto:20210127T170000
DTSTAMP:20210423T045759
CREATED:20210115T183055Z
LAST-MODIFIED:20210115T183055Z
UID:3098-1611759600-1611766800@www.lecpc.ca
SUMMARY:Jeu de dés en virtuel
DESCRIPTION:Venez vous amuser avec le jeu de dés \nMercredi \n15 h à 17 h \nPlateforme Zoom 5 $ \nResponsable : Diane Irwin \n 
URL:https://www.lecpc.ca/activite/jeu-de-des-en-virtuel/2021-01-27/
LOCATION:Plateforme Zoom\, Canada
CATEGORIES:Activité régulière
END:VEVENT
END:VCALENDAR