BEGIN:VCALENDAR
VERSION:2.0
PRODID:-//Centre Pauline-Charron - ECPv5.8.0//NONSGML v1.0//EN
CALSCALE:GREGORIAN
METHOD:PUBLISH
X-WR-CALNAME:Centre Pauline-Charron
X-ORIGINAL-URL:https://www.lecpc.ca
X-WR-CALDESC:évènements pour Centre Pauline-Charron
BEGIN:VTIMEZONE
TZID:America/Toronto
BEGIN:DAYLIGHT
TZOFFSETFROM:-0500
TZOFFSETTO:-0400
TZNAME:EDT
DTSTART:20210314T070000
END:DAYLIGHT
BEGIN:STANDARD
TZOFFSETFROM:-0400
TZOFFSETTO:-0500
TZNAME:EST
DTSTART:20211107T060000
END:STANDARD
END:VTIMEZONE
BEGIN:VEVENT
DTSTART;TZID=America/Toronto:20210719T080000
DTEND;TZID=America/Toronto:20210802T170000
DTSTAMP:20210720T124243
CREATED:20210607T143544Z
LAST-MODIFIED:20210607T143546Z
UID:4666-1626681600-1627923600@www.lecpc.ca
SUMMARY:VACANCES DES EMPLOYÉS - CENTRE EST FERMÉ DU 19 JUILLET AU 2 AOÛT
DESCRIPTION:
URL:https://www.lecpc.ca/activite/vacances-des-employes-centre-est-ferme-du-19-juillet-au-2-aout/
LOCATION:Centre Pauline-Charron\, 164\, rue Jeanne-Mance\, Ottawa\, Ontario\, K1L 6M3\, Canada
END:VEVENT
END:VCALENDAR