BEGIN:VCALENDAR
VERSION:2.0
PRODID:-//Centre Pauline-Charron - ECPv5.8.0//NONSGML v1.0//EN
CALSCALE:GREGORIAN
METHOD:PUBLISH
X-WR-CALNAME:Centre Pauline-Charron
X-ORIGINAL-URL:https://www.lecpc.ca
X-WR-CALDESC:évènements pour Centre Pauline-Charron
BEGIN:VTIMEZONE
TZID:America/Toronto
BEGIN:DAYLIGHT
TZOFFSETFROM:-0500
TZOFFSETTO:-0400
TZNAME:EDT
DTSTART:20210314T070000
END:DAYLIGHT
BEGIN:STANDARD
TZOFFSETFROM:-0400
TZOFFSETTO:-0500
TZNAME:EST
DTSTART:20211107T060000
END:STANDARD
END:VTIMEZONE
BEGIN:VEVENT
DTSTART;TZID=America/Toronto:20210713T100000
DTEND;TZID=America/Toronto:20210713T113000
DTSTAMP:20210720T124112
CREATED:20210622T145156Z
LAST-MODIFIED:20210622T145156Z
UID:4809-1626170400-1626175800@www.lecpc.ca
SUMMARY:Mini cours de Qi-Gong- VIRTUEL
DESCRIPTION:QI-GONG – EN MODE VIRTUELLE \nLes mardis du 29 juin\, 6\,13\, et 20 juillet (3 sessions)\n10 h – 11 h 30 \nLe Qi-Gong (prononce Chi Kung) est une forme d’exercices traditionnels chinois reposant sur la connaissance et la maîtrise de l’énergie vitale et consiste en des mouvements lents ainsi que des exercices de respiration\, de méditation et de concentration. La pratique du Qi-Gong permet d’assouplir les structures du corps et les articulations\, d’améliorer la santé et la vitalité\, et de favoriser la relaxation. Le Qi-Gong peut être pratiqué debout ou assis.\n\nInsctruteure : Nicole Beaulac\, praticienne de Chow Qigong et la médecine énergique Eden \nPlateforme Zoom. Coût : 20 $ (m) 30 $ (i) min. 5 pers.
URL:https://www.lecpc.ca/activite/mini-cours-de-qi-gong-virtuel/2021-07-13/
END:VEVENT
END:VCALENDAR