BEGIN:VCALENDAR
VERSION:2.0
PRODID:-//Centre Pauline-Charron - ECPv5.8.0//NONSGML v1.0//EN
CALSCALE:GREGORIAN
METHOD:PUBLISH
X-WR-CALNAME:Centre Pauline-Charron
X-ORIGINAL-URL:https://www.lecpc.ca
X-WR-CALDESC:évènements pour Centre Pauline-Charron
BEGIN:VTIMEZONE
TZID:America/Toronto
BEGIN:DAYLIGHT
TZOFFSETFROM:-0500
TZOFFSETTO:-0400
TZNAME:EDT
DTSTART:20210314T070000
END:DAYLIGHT
BEGIN:STANDARD
TZOFFSETFROM:-0400
TZOFFSETTO:-0500
TZNAME:EST
DTSTART:20211107T060000
END:STANDARD
END:VTIMEZONE
BEGIN:VEVENT
DTSTART;TZID=America/Toronto:20210707T093000
DTEND;TZID=America/Toronto:20210707T103000
DTSTAMP:20210720T124048
CREATED:20210622T142552Z
LAST-MODIFIED:20210622T142555Z
UID:4732-1625650200-1625653800@www.lecpc.ca
SUMMARY:Exercices ViActive activité suivie à l'extérieur du CPC
DESCRIPTION:Exercices ViActive \nMercredi \n9 h 30 – 10 h 30 \nInscription : 7 $  (activité suivie au CPC à l’extérieur)\nResponsable : Paulette Chartier
URL:https://www.lecpc.ca/activite/exercices-viactive-activite-suivie-a-lexterieur-du-cpc/2021-07-07/
LOCATION:Centre Pauline-Charron\, 164\, rue Jeanne-Mance\, Ottawa\, Ontario\, K1L 6M3\, Canada
END:VEVENT
BEGIN:VEVENT
DTSTART;TZID=America/Toronto:20210707T140000
DTEND;TZID=America/Toronto:20210707T150000
DTSTAMP:20210720T124048
CREATED:20210115T172451Z
LAST-MODIFIED:20210622T143300Z
UID:4759-1625666400-1625670000@www.lecpc.ca
SUMMARY:Exercices ViActive en virtuel -SEULEMENT
DESCRIPTION:Exercices ViActive\nHeure : 14 h – 15 h\nResponsable : Paulette Chartier\nAfin de respecter les directives imposées par la province\, les conditions suivantes\nsont en vigueur:\n– distanciation sociale et physique: 2 mètres entre les personnes\n– le port du masque est obligatoire\nInscription : 5 $ plateforme Zoom
URL:https://www.lecpc.ca/activite/exercices-viactive-3-2021-01-15-2021-03-31-2021-06-30/2021-07-07/
LOCATION:Plateforme Zoom\, Canada
CATEGORIES:Activité régulière
END:VEVENT
BEGIN:VEVENT
DTSTART;TZID=America/Toronto:20210707T150000
DTEND;TZID=America/Toronto:20210707T170000
DTSTAMP:20210720T124048
CREATED:20210115T183055Z
LAST-MODIFIED:20210115T183055Z
UID:4751-1625670000-1625677200@www.lecpc.ca
SUMMARY:Jeu de dés en virtuel
DESCRIPTION:Venez vous amuser avec le jeu de dés \nMercredi \n15 h à 17 h \nPlateforme Zoom 5 $ \nResponsable : Diane Irwin \n 
URL:https://www.lecpc.ca/activite/jeu-de-des-en-virtuel-2021-03-31-2021-06-30/2021-07-07/
LOCATION:Plateforme Zoom\, Canada
CATEGORIES:Activité régulière
END:VEVENT
END:VCALENDAR