BEGIN:VCALENDAR
VERSION:2.0
PRODID:-//Centre Pauline-Charron - ECPv5.8.0//NONSGML v1.0//EN
CALSCALE:GREGORIAN
METHOD:PUBLISH
X-WR-CALNAME:Centre Pauline-Charron
X-ORIGINAL-URL:https://www.lecpc.ca
X-WR-CALDESC:évènements pour Centre Pauline-Charron
BEGIN:VTIMEZONE
TZID:America/Toronto
BEGIN:DAYLIGHT
TZOFFSETFROM:-0500
TZOFFSETTO:-0400
TZNAME:EDT
DTSTART:20210314T070000
END:DAYLIGHT
BEGIN:STANDARD
TZOFFSETFROM:-0400
TZOFFSETTO:-0500
TZNAME:EST
DTSTART:20211107T060000
END:STANDARD
END:VTIMEZONE
BEGIN:VEVENT
DTSTART;TZID=America/Toronto:20210702T100000
DTEND;TZID=America/Toronto:20210702T100000
DTSTAMP:20210720T124030
CREATED:20210330T182313Z
LAST-MODIFIED:20210622T143921Z
UID:4784-1625220000-1625220000@www.lecpc.ca
SUMMARY:Exercices physiques en virtuel (aucune activité)
DESCRIPTION:Exercices physiques en virtuel seulement\nHeure : 10 h – 10 h 45\nResponsable : Lise Legault\nAfin de respecter les directives imposées par la province\, les conditions suivantes\nsont en vigueur :\n– distanciation sociale et physique: 2 mètres entre les personnes\n– le port du masque est obligatoire\nInscription : 7 $ / 2 $ par session (CPC) (plateforme Zoom 5 $)
URL:https://www.lecpc.ca/activite/exercices-physiques-zoom-2021-06-24-2021-06-25-2021-07-02/
LOCATION:Plateforme Zoom\, Canada
END:VEVENT
END:VCALENDAR