BEGIN:VCALENDAR
VERSION:2.0
PRODID:-//Centre Pauline-Charron - ECPv5.3.1.1//NONSGML v1.0//EN
CALSCALE:GREGORIAN
METHOD:PUBLISH
X-WR-CALNAME:Centre Pauline-Charron
X-ORIGINAL-URL:https://www.lecpc.ca
X-WR-CALDESC:évènements pour Centre Pauline-Charron
BEGIN:VTIMEZONE
TZID:America/Toronto
BEGIN:DAYLIGHT
TZOFFSETFROM:-0500
TZOFFSETTO:-0400
TZNAME:EDT
DTSTART:20200308T070000
END:DAYLIGHT
BEGIN:STANDARD
TZOFFSETFROM:-0400
TZOFFSETTO:-0500
TZNAME:EST
DTSTART:20201101T060000
END:STANDARD
END:VTIMEZONE
BEGIN:VEVENT
DTSTART;TZID=America/Toronto:20201125T090000
DTEND;TZID=America/Toronto:20201125T110000
DTSTAMP:20210423T050709
CREATED:20201014T022232Z
LAST-MODIFIED:20201125T161131Z
UID:2198-1606294800-1606302000@www.lecpc.ca
SUMMARY:Tricot
DESCRIPTION:Tricot\nHeure : 9 h\nResponsable : Claire Lebel et Germaine Alberti\nAfin de respecter les directives imposées par la province\, les conditions suivantes\nsont en vigueur:\n– distanciation sociale et physique: 2 mètres entre les personnes\n– le port du masque est obligatoire\nInscription : 7 $ / 2 $ par session
URL:https://www.lecpc.ca/activite/tricot/2020-11-25/
LOCATION:Centre Pauline-Charron\, 164\, rue Jeanne-Mance\, Ottawa\, Ontario\, K1L 6M3\, Canada
END:VEVENT
BEGIN:VEVENT
DTSTART;TZID=America/Toronto:20201125T140000
DTEND;TZID=America/Toronto:20201125T150000
DTSTAMP:20210423T050709
CREATED:20201125T162451Z
LAST-MODIFIED:20201125T160353Z
UID:2209-1606312800-1606316400@www.lecpc.ca
SUMMARY:Exercices ViActive
DESCRIPTION:Exercices ViActive\nHeure : 14 h – 15 h\nResponsable : Céline Brousseau\nAfin de respecter les directives imposées par la province\, les conditions suivantes\nsont en vigueur:\n– distanciation sociale et physique: 2 mètres entre les personnes\n– le port du masque est obligatoire\nInscription : 7 $ / 2 $ par session
URL:https://www.lecpc.ca/activite/exercices-viactive-3/2020-11-25/
LOCATION:Centre Pauline-Charron\, 164\, rue Jeanne-Mance\, Ottawa\, Ontario\, K1L 6M3\, Canada
END:VEVENT
BEGIN:VEVENT
DTSTART;TZID=America/Toronto:20201125T151500
DTEND;TZID=America/Toronto:20201125T170000
DTSTAMP:20210423T050709
CREATED:20201125T162826Z
LAST-MODIFIED:20201125T160150Z
UID:2220-1606317300-1606323600@www.lecpc.ca
SUMMARY:Jeu de dés (Zoom)
DESCRIPTION:Jeu de dés (via plateforme Zoom) (NOUVEAU)\nHeure : 15 h 15 – 17 h\nResponsable : Diane Irwin et Line Mongeon\nAfin de respecter les directives imposées par la province\, les conditions suivantes\nsont en vigueur:\n– distanciation sociale et physique: 2 mètres entre les personnes\n– le port du masque est obligatoire\nInscription : 5 $
URL:https://www.lecpc.ca/activite/jeu-de-des-zoom/2020-11-25/
LOCATION:Centre Pauline-Charron\, 164\, rue Jeanne-Mance\, Ottawa\, Ontario\, K1L 6M3\, Canada
CATEGORIES:Activité régulière
END:VEVENT
BEGIN:VEVENT
DTSTART;TZID=America/Toronto:20201125T190000
DTEND;TZID=America/Toronto:20201125T210000
DTSTAMP:20210423T050709
CREATED:20201028T190803Z
LAST-MODIFIED:20201028T190803Z
UID:2678-1606330800-1606338000@www.lecpc.ca
SUMMARY:Fléchettes du soir
DESCRIPTION:Fléchettes du soir\nHeure : 19 h – 21 h\nResponsable : Léo Lavergne et Paulette Chartier\nAfin de respecter les directives imposées par la province\, les conditions suivantes\nsont en vigueur:\n– distanciation sociale et physique: 2 mètres entre les personnes\n– le port du masque est obligatoire\nInscription : 7 $ / 2 $ par session
URL:https://www.lecpc.ca/activite/flechettes-du-soir-3/2020-11-25/
LOCATION:Centre Pauline-Charron\, 164\, rue Jeanne-Mance\, Ottawa\, Ontario\, K1L 6M3\, Canada
END:VEVENT
END:VCALENDAR