BEGIN:VCALENDAR
VERSION:2.0
PRODID:-//Centre Pauline-Charron - ECPv5.3.1.1//NONSGML v1.0//EN
CALSCALE:GREGORIAN
METHOD:PUBLISH
X-WR-CALNAME:Centre Pauline-Charron
X-ORIGINAL-URL:https://www.lecpc.ca
X-WR-CALDESC:évènements pour Centre Pauline-Charron
BEGIN:VTIMEZONE
TZID:America/Toronto
BEGIN:DAYLIGHT
TZOFFSETFROM:-0500
TZOFFSETTO:-0400
TZNAME:EDT
DTSTART:20200308T070000
END:DAYLIGHT
BEGIN:STANDARD
TZOFFSETFROM:-0400
TZOFFSETTO:-0500
TZNAME:EST
DTSTART:20201101T060000
END:STANDARD
END:VTIMEZONE
BEGIN:VEVENT
DTSTART;TZID=America/Toronto:20201105T090000
DTEND;TZID=America/Toronto:20201105T110000
DTSTAMP:20210423T050548
CREATED:20201014T023112Z
LAST-MODIFIED:20201014T023112Z
UID:2228-1604566800-1604574000@www.lecpc.ca
SUMMARY:Sacs de sable
DESCRIPTION:Jeudi 8 octobre\nSacs de sable\nHeure : 9 h – 11 h\nResponsable : Rita D’Aoust\nAfin de respecter les directives imposées par la province\, les conditions suivantes\nsont en vigueur:\n– distanciation sociale et physique: 2 mètres entre les personnes\n– le port du masque est obligatoire\nInscription : 7 $ / 2 $ par session
URL:https://www.lecpc.ca/activite/sacs-de-sable-2/2020-11-05/
LOCATION:Centre Pauline-Charron\, 164\, rue Jeanne-Mance\, Ottawa\, Ontario\, K1L 6M3\, Canada
END:VEVENT
BEGIN:VEVENT
DTSTART;TZID=America/Toronto:20201105T101500
DTEND;TZID=America/Toronto:20201105T111500
DTSTAMP:20210423T050548
CREATED:20201017T194328Z
LAST-MODIFIED:20201017T194328Z
UID:2443-1604571300-1604574900@www.lecpc.ca
SUMMARY:Yoga sur chaise
DESCRIPTION:Yoga sur chaise – 10 h 15 – 11 h 15\nCoût : 70 $ (m) 85 $ (i)\nLieu : plateforme Zoom\nInstructeure: Line Mc Carthy\nAfin de respecter les directives imposées par la province\, les conditions suivantes\nsont en vigueur :\n– distanciation sociale et physique: 2 mètres entre les personnes\n– le port du masque est obligatoire\nInscription requise pour recevoir le lien
URL:https://www.lecpc.ca/activite/yoga-sur-chaise/2020-11-05/
LOCATION:Plateforme Zoom\, Canada
END:VEVENT
BEGIN:VEVENT
DTSTART;TZID=America/Toronto:20201105T130000
DTEND;TZID=America/Toronto:20201105T134500
DTSTAMP:20210423T050548
CREATED:20201014T023529Z
LAST-MODIFIED:20201014T023529Z
UID:2239-1604581200-1604583900@www.lecpc.ca
SUMMARY:Exercices Corps à coeur (Zoom ou sur place)
DESCRIPTION:Exercices corps à coeur\nHeure : 13 h – 13 h 45\nInscription : 7 $ / 2 $ par session (CPC) (plateforme Zoom 5 $)\nAfin de respecter les directives imposées par la province\, les conditions suivantes\nsont en vigueur :\n– distanciation sociale et physique: 2 mètres entre les personnes\n– le port du masque est obligatoire\nHeure : 14 h – 14 h 40\nInscription : plateforme Zoom seulement : 5 $ / Responsable : Monique Sabourin
URL:https://www.lecpc.ca/activite/exercices-corps-a-coeur-zoom-ou-sur-place/2020-11-05/
LOCATION:Plateforme Zoom\, Canada
END:VEVENT
BEGIN:VEVENT
DTSTART;TZID=America/Toronto:20201105T130000
DTEND;TZID=America/Toronto:20201105T150000
DTSTAMP:20210423T050548
CREATED:20201014T024351Z
LAST-MODIFIED:20201014T024351Z
UID:2276-1604581200-1604588400@www.lecpc.ca
SUMMARY:Cours de Bunka
DESCRIPTION:Bunka – 13 h – 15 h\nCoût : 96 $ (m) 115 $ (i)\nResponsable sur place : Rita Lupien\nAfin de respecter les directives imposées par la province\, les conditions suivantes\nsont en vigueur :\n– distanciation sociale et physique: 2 mètres entre les personnes\n– le port du masque est obligatoire\nInscription requise
URL:https://www.lecpc.ca/activite/cours-de-bunka/2020-11-05/
LOCATION:Centre Pauline-Charron\, 164\, rue Jeanne-Mance\, Ottawa\, Ontario\, K1L 6M3\, Canada
END:VEVENT
BEGIN:VEVENT
DTSTART;TZID=America/Toronto:20201105T140000
DTEND;TZID=America/Toronto:20201105T144000
DTSTAMP:20210423T050548
CREATED:20201014T023800Z
LAST-MODIFIED:20201017T185345Z
UID:2250-1604584800-1604587200@www.lecpc.ca
SUMMARY:Exercices Corps à coeur (Zoom)
DESCRIPTION:Exercices Corps à coeur (Zoom) \nHeure : 14 h – 14 h 40\nInscription : plateforme Zoom seulement : 5 $ / Responsable : Monique Sabourin
URL:https://www.lecpc.ca/activite/exercices-corps-a-coeur-zoom/2020-11-05/
LOCATION:Plateforme Zoom\, Canada
END:VEVENT
END:VCALENDAR