BEGIN:VCALENDAR
VERSION:2.0
PRODID:-//Centre Pauline-Charron - ECPv5.8.0//NONSGML v1.0//EN
CALSCALE:GREGORIAN
METHOD:PUBLISH
X-WR-CALNAME:Centre Pauline-Charron
X-ORIGINAL-URL:https://www.lecpc.ca
X-WR-CALDESC:évènements pour Centre Pauline-Charron
BEGIN:VTIMEZONE
TZID:America/Toronto
BEGIN:DAYLIGHT
TZOFFSETFROM:-0500
TZOFFSETTO:-0400
TZNAME:EDT
DTSTART:20210314T070000
END:DAYLIGHT
BEGIN:STANDARD
TZOFFSETFROM:-0400
TZOFFSETTO:-0500
TZNAME:EST
DTSTART:20211107T060000
END:STANDARD
END:VTIMEZONE
BEGIN:VEVENT
DTSTART;TZID=America/Toronto:20210708T103000
DTEND;TZID=America/Toronto:20210708T103000
DTSTAMP:20210720T124555
CREATED:20210607T141143Z
LAST-MODIFIED:20210607T142717Z
UID:4647-1625740200-1625740200@www.lecpc.ca
SUMMARY:Yoga sur chaise en douceur en mode virtuel
DESCRIPTION:  \nYOGA EN DOUCEUR – EN MODE VIRTUELLE\nLes jeudis 10\, 17\, 24 juin et 8\, 15 juillet\n10 h 30 – 11 h 30 \nCe cours de yoga est un excellent outil pour accroître la vitalité\, la mobilité\, la souplesse et la force en plus d’améliorer la posture et de réduire le stress. Les postures se font en douceur en position assise ou debout. Une attention particulière est accordée à l’alignement du corps\, et les postures sont modifiées pour réduire tout risque lié `l’ostéoporose et autre condition physique.\n\nInstructeure : Line Mc Carthy\, Thérapie somatique\nPlateforme Zoom. Coût : 55 $ (m) 70 $ (i) min. 6 pers.
URL:https://www.lecpc.ca/activite/yogasur-chaise-en-douceur-en-mode-virtuelle/2021-07-08/
LOCATION:Plateforme Zoom\, Canada
END:VEVENT
END:VCALENDAR