BEGIN:VCALENDAR
VERSION:2.0
PRODID:-//Centre Pauline-Charron - ECPv5.3.1.1//NONSGML v1.0//EN
CALSCALE:GREGORIAN
METHOD:PUBLISH
X-WR-CALNAME:Centre Pauline-Charron
X-ORIGINAL-URL:https://www.lecpc.ca
X-WR-CALDESC:évènements pour Centre Pauline-Charron
BEGIN:VTIMEZONE
TZID:America/Toronto
BEGIN:DAYLIGHT
TZOFFSETFROM:-0500
TZOFFSETTO:-0400
TZNAME:EDT
DTSTART:20210314T070000
END:DAYLIGHT
BEGIN:STANDARD
TZOFFSETFROM:-0400
TZOFFSETTO:-0500
TZNAME:EST
DTSTART:20211107T060000
END:STANDARD
END:VTIMEZONE
BEGIN:VEVENT
DTSTART;TZID=America/Toronto:20210225T090000
DTEND;TZID=America/Toronto:20210225T110000
DTSTAMP:20210422T110719
CREATED:20210222T205958Z
LAST-MODIFIED:20210222T210003Z
UID:3645-1614243600-1614250800@www.lecpc.ca
SUMMARY:Sacs de sable
DESCRIPTION:Sacs de sable                                                          \nHeure : 9 h – 11 h  \nInscription : 7 $ / 2 $ par session  \nResponsable : Paulette Chartier \nAfin de respecter les directives imposées par la province\, les conditions suivantes sont en vigueur: \n– distanciation sociale et physique: 2 mètres entre les personnes \n– le port du masque est obligatoire
URL:https://www.lecpc.ca/activite/sacs-de-sable-3/2021-02-25/
LOCATION:Centre Pauline-Charron\, 164\, rue Jeanne-Mance\, Ottawa\, Ontario\, K1L 6M3\, Canada
END:VEVENT
END:VCALENDAR