BEGIN:VCALENDAR
VERSION:2.0
PRODID:-//Centre Pauline-Charron - ECPv5.8.0//NONSGML v1.0//EN
CALSCALE:GREGORIAN
METHOD:PUBLISH
X-WR-CALNAME:Centre Pauline-Charron
X-ORIGINAL-URL:https://www.lecpc.ca
X-WR-CALDESC:évènements pour Centre Pauline-Charron
BEGIN:VTIMEZONE
TZID:America/Toronto
BEGIN:DAYLIGHT
TZOFFSETFROM:-0500
TZOFFSETTO:-0400
TZNAME:EDT
DTSTART:20200308T070000
END:DAYLIGHT
BEGIN:STANDARD
TZOFFSETFROM:-0400
TZOFFSETTO:-0500
TZNAME:EST
DTSTART:20201101T060000
END:STANDARD
END:VTIMEZONE
BEGIN:VEVENT
DTSTART;TZID=America/Toronto:20201204T130000
DTEND;TZID=America/Toronto:20201204T143000
DTSTAMP:20210722T122802
CREATED:20201017T191111Z
LAST-MODIFIED:20201017T191111Z
UID:2432-1607086800-1607092200@www.lecpc.ca
SUMMARY:Pratique de danse en ligne
DESCRIPTION:Pratique de danse en ligne\nHeure : 13 h – 14 h 30\nResponsable : Richard Therrien\nAfin de respecter les directives imposées par la province\, les conditions suivantes\nsont en vigueur :\n– distanciation sociale et physique: 2 mètres entre les personnes\n– le port du masque est obligatoire\nInscription : 7 $ / 2 $ par session
URL:https://www.lecpc.ca/activite/pratique-de-danse-en-ligne/2020-12-04/
LOCATION:Centre Pauline-Charron\, 164\, rue Jeanne-Mance\, Ottawa\, Ontario\, K1L 6M3\, Canada
END:VEVENT
END:VCALENDAR