BEGIN:VCALENDAR
VERSION:2.0
PRODID:-//Centre Pauline-Charron - ECPv5.3.1.1//NONSGML v1.0//EN
CALSCALE:GREGORIAN
METHOD:PUBLISH
X-WR-CALNAME:Centre Pauline-Charron
X-ORIGINAL-URL:https://www.lecpc.ca
X-WR-CALDESC:évènements pour Centre Pauline-Charron
BEGIN:VTIMEZONE
TZID:America/Toronto
BEGIN:DAYLIGHT
TZOFFSETFROM:-0500
TZOFFSETTO:-0400
TZNAME:EDT
DTSTART:20210314T070000
END:DAYLIGHT
BEGIN:STANDARD
TZOFFSETFROM:-0400
TZOFFSETTO:-0500
TZNAME:EST
DTSTART:20211107T060000
END:STANDARD
END:VTIMEZONE
BEGIN:VEVENT
DTSTART;TZID=America/Toronto:20210312T133000
DTEND;TZID=America/Toronto:20210312T150000
DTSTAMP:20210422T111016
CREATED:20210305T212303Z
LAST-MODIFIED:20210305T212309Z
UID:3756-1615555800-1615561200@www.lecpc.ca
SUMMARY:Pratique de danse en ligne
DESCRIPTION:Pratique de danse en ligne \n13 h 30 – 15 h \nInscription : 7 $ membre/ 2 $ par session \n 
URL:https://www.lecpc.ca/activite/pratique-de-danse-en-ligne-3/2021-03-12/
LOCATION:Centre Pauline-Charron\, 164\, rue Jeanne-Mance\, Ottawa\, Ontario\, K1L 6M3\, Canada
END:VEVENT
END:VCALENDAR