BEGIN:VCALENDAR
VERSION:2.0
PRODID:-//Centre Pauline-Charron - ECPv5.8.0//NONSGML v1.0//EN
CALSCALE:GREGORIAN
METHOD:PUBLISH
X-WR-CALNAME:Centre Pauline-Charron
X-ORIGINAL-URL:https://www.lecpc.ca
X-WR-CALDESC:évènements pour Centre Pauline-Charron
BEGIN:VTIMEZONE
TZID:America/Toronto
BEGIN:DAYLIGHT
TZOFFSETFROM:-0500
TZOFFSETTO:-0400
TZNAME:EDT
DTSTART:20200308T070000
END:DAYLIGHT
BEGIN:STANDARD
TZOFFSETFROM:-0400
TZOFFSETTO:-0500
TZNAME:EST
DTSTART:20201101T060000
END:STANDARD
END:VTIMEZONE
BEGIN:VEVENT
DTSTART;TZID=America/Toronto:20201201T160000
DTEND;TZID=America/Toronto:20201201T183000
DTSTAMP:20210722T122603
CREATED:20201017T190301Z
LAST-MODIFIED:20201017T190301Z
UID:2407-1606838400-1606847400@www.lecpc.ca
SUMMARY:Pickleball (1 contre 1)
DESCRIPTION:Pickleball (1 CONTRE 1)\nHeure : 16 h – 18 h 30\nResponsable : Thérèse Legault\nAfin de respecter les directives imposées par la province\, les conditions suivantes\nsont en vigueur :\n– distanciation sociale et physique: 2 mètres entre les personnes\n– le port du masque est obligatoire\nInscription : 7 $ / 2 $ par session
URL:https://www.lecpc.ca/activite/pickleball-1-contre-1-2/2020-12-01/
END:VEVENT
END:VCALENDAR