BEGIN:VCALENDAR
VERSION:2.0
PRODID:-//Centre Pauline-Charron - ECPv5.8.0//NONSGML v1.0//EN
CALSCALE:GREGORIAN
METHOD:PUBLISH
X-WR-CALNAME:Centre Pauline-Charron
X-ORIGINAL-URL:https://www.lecpc.ca
X-WR-CALDESC:évènements pour Centre Pauline-Charron
BEGIN:VTIMEZONE
TZID:America/Toronto
BEGIN:DAYLIGHT
TZOFFSETFROM:-0500
TZOFFSETTO:-0400
TZNAME:EDT
DTSTART:20200308T070000
END:DAYLIGHT
BEGIN:STANDARD
TZOFFSETFROM:-0400
TZOFFSETTO:-0500
TZNAME:EST
DTSTART:20201101T060000
END:STANDARD
END:VTIMEZONE
BEGIN:VEVENT
DTSTART;TZID=America/Toronto:20201209T103000
DTEND;TZID=America/Toronto:20201209T113000
DTSTAMP:20210722T123530
CREATED:20201125T155741Z
LAST-MODIFIED:20201125T155741Z
UID:2762-1607509800-1607513400@www.lecpc.ca
SUMMARY:Messe de Noël
DESCRIPTION:Mercredi 9 décembre\nLa messe aura lieu à l’église Marie-Médiatrice à 10 h 30\nMesse présidée par l’Abbé Jacques Poirier\nMusique par Georgette Fortin \nInscription obligatoire à programmation@lecpc.ca\,\nen ligne à la billetterie www.lecpc.ca ou 613 741-05662
URL:https://www.lecpc.ca/activite/messe-de-noel/
LOCATION:Paroisse Marie-Médiatrice\, 344 avenue Cyr\, Ottawa\, Ontario\, K1L 7P4\, Canada
CATEGORIES:Activité spéciale
END:VEVENT
END:VCALENDAR