BEGIN:VCALENDAR
VERSION:2.0
PRODID:-//Centre Pauline-Charron - ECPv5.8.0//NONSGML v1.0//EN
CALSCALE:GREGORIAN
METHOD:PUBLISH
X-WR-CALNAME:Centre Pauline-Charron
X-ORIGINAL-URL:https://www.lecpc.ca
X-WR-CALDESC:évènements pour Centre Pauline-Charron
BEGIN:VTIMEZONE
TZID:America/Toronto
BEGIN:DAYLIGHT
TZOFFSETFROM:-0500
TZOFFSETTO:-0400
TZNAME:EDT
DTSTART:20200308T070000
END:DAYLIGHT
BEGIN:STANDARD
TZOFFSETFROM:-0400
TZOFFSETTO:-0500
TZNAME:EST
DTSTART:20201101T060000
END:STANDARD
END:VTIMEZONE
BEGIN:VEVENT
DTSTART;VALUE=DATE:20201228
DTEND;VALUE=DATE:20201229
DTSTAMP:20210722T123554
CREATED:20201218T141944Z
LAST-MODIFIED:20201218T141944Z
UID:2853-1609113600-1609199999@www.lecpc.ca
SUMMARY:Le Centre Pauline-Charron est fermé
DESCRIPTION:BONNE JOURNÉE!
URL:https://www.lecpc.ca/activite/le-centre-pauline-charron-est-ferme/
CATEGORIES:Autres
END:VEVENT
END:VCALENDAR