BEGIN:VCALENDAR
VERSION:2.0
PRODID:-//Centre Pauline-Charron - ECPv5.8.0//NONSGML v1.0//EN
CALSCALE:GREGORIAN
METHOD:PUBLISH
X-WR-CALNAME:Centre Pauline-Charron
X-ORIGINAL-URL:https://www.lecpc.ca
X-WR-CALDESC:évènements pour Centre Pauline-Charron
BEGIN:VTIMEZONE
TZID:America/Toronto
BEGIN:DAYLIGHT
TZOFFSETFROM:-0500
TZOFFSETTO:-0400
TZNAME:EDT
DTSTART:20210314T070000
END:DAYLIGHT
BEGIN:STANDARD
TZOFFSETFROM:-0400
TZOFFSETTO:-0500
TZNAME:EST
DTSTART:20211107T060000
END:STANDARD
END:VTIMEZONE
BEGIN:VEVENT
DTSTART;VALUE=DATE:20210104
DTEND;VALUE=DATE:20210105
DTSTAMP:20210722T123634
CREATED:20201218T142440Z
LAST-MODIFIED:20201218T142440Z
UID:2861-1609718400-1609804799@www.lecpc.ca
SUMMARY:Le Centre Pauline-Charron est fermé
DESCRIPTION:BONNE JOURNÉE!
URL:https://www.lecpc.ca/activite/le-centre-pauline-charron-est-ferme-10/
CATEGORIES:Autres
END:VEVENT
END:VCALENDAR