BEGIN:VCALENDAR
VERSION:2.0
PRODID:-//Centre Pauline-Charron - ECPv5.8.0//NONSGML v1.0//EN
CALSCALE:GREGORIAN
METHOD:PUBLISH
X-WR-CALNAME:Centre Pauline-Charron
X-ORIGINAL-URL:https://www.lecpc.ca
X-WR-CALDESC:évènements pour Centre Pauline-Charron
BEGIN:VTIMEZONE
TZID:America/Toronto
BEGIN:DAYLIGHT
TZOFFSETFROM:-0500
TZOFFSETTO:-0400
TZNAME:EDT
DTSTART:20210314T070000
END:DAYLIGHT
BEGIN:STANDARD
TZOFFSETFROM:-0400
TZOFFSETTO:-0500
TZNAME:EST
DTSTART:20211107T060000
END:STANDARD
END:VTIMEZONE
BEGIN:VEVENT
DTSTART;TZID=America/Toronto:20210612T080000
DTEND;TZID=America/Toronto:20210612T170000
DTSTAMP:20210723T041455
CREATED:20210519T134905Z
LAST-MODIFIED:20210519T134909Z
UID:4604-1623484800-1623517200@www.lecpc.ca
SUMMARY:JOURNÉE MONDIALE DU TRICOT
DESCRIPTION:Samedi 12 juin \nJournée mondiale du tricot \nAidons nos tricoteurses à tricoter pour les personnes en besoin. \nDétails à venir \nCommuniquer avec Céline Brousseau à programmation@lecpc.ca \n 
URL:https://www.lecpc.ca/activite/journee-mondiale-du-tricot/
LOCATION:Centre Pauline-Charron\, 164\, rue Jeanne-Mance\, Ottawa\, Ontario\, K1L 6M3\, Canada
END:VEVENT
END:VCALENDAR