BEGIN:VCALENDAR
VERSION:2.0
PRODID:-//Centre Pauline-Charron - ECPv5.8.0//NONSGML v1.0//EN
CALSCALE:GREGORIAN
METHOD:PUBLISH
X-WR-CALNAME:Centre Pauline-Charron
X-ORIGINAL-URL:https://www.lecpc.ca
X-WR-CALDESC:évènements pour Centre Pauline-Charron
BEGIN:VTIMEZONE
TZID:America/Toronto
BEGIN:DAYLIGHT
TZOFFSETFROM:-0500
TZOFFSETTO:-0400
TZNAME:EDT
DTSTART:20200308T070000
END:DAYLIGHT
BEGIN:STANDARD
TZOFFSETFROM:-0400
TZOFFSETTO:-0500
TZNAME:EST
DTSTART:20201101T060000
END:STANDARD
END:VTIMEZONE
BEGIN:VEVENT
DTSTART;TZID=America/Toronto:20201022T140000
DTEND;TZID=America/Toronto:20201022T144000
DTSTAMP:20210722T051912
CREATED:20201014T023800Z
LAST-MODIFIED:20201017T185344Z
UID:2248-1603375200-1603377600@www.lecpc.ca
SUMMARY:Exercices Corps à coeur (Zoom)
DESCRIPTION:Exercices Corps à coeur (Zoom) \nHeure : 14 h – 14 h 40\nInscription : plateforme Zoom seulement : 5 $ / Responsable : Monique Sabourin
URL:https://www.lecpc.ca/activite/exercices-corps-a-coeur-zoom/2020-10-22/
LOCATION:Plateforme Zoom\, Canada
END:VEVENT
END:VCALENDAR