BEGIN:VCALENDAR
VERSION:2.0
PRODID:-//Centre Pauline-Charron - ECPv5.8.0//NONSGML v1.0//EN
CALSCALE:GREGORIAN
METHOD:PUBLISH
X-WR-CALNAME:Centre Pauline-Charron
X-ORIGINAL-URL:https://www.lecpc.ca
X-WR-CALDESC:évènements pour Centre Pauline-Charron
BEGIN:VTIMEZONE
TZID:America/Toronto
BEGIN:DAYLIGHT
TZOFFSETFROM:-0500
TZOFFSETTO:-0400
TZNAME:EDT
DTSTART:20210314T070000
END:DAYLIGHT
BEGIN:STANDARD
TZOFFSETFROM:-0400
TZOFFSETTO:-0500
TZNAME:EST
DTSTART:20211107T060000
END:STANDARD
END:VTIMEZONE
BEGIN:VEVENT
DTSTART;TZID=America/Toronto:20210524T140000
DTEND;TZID=America/Toronto:20210524T140000
DTSTAMP:20210723T040542
CREATED:20210331T132927Z
LAST-MODIFIED:20210519T135020Z
UID:4242-1621864800-1621864800@www.lecpc.ca
SUMMARY:Exercices corps à coeur en virtuel - Centre est fermé aucune activitée
DESCRIPTION:Exercices Corps à coeur en virtuel – Centre est fermé aucune activitée \nHeure : 14 h – 14 h 40\nInscription : plateforme Zoom seulement : 5 $\nResponsable : Monique Sabourin
URL:https://www.lecpc.ca/activite/exercices-corps-a-coeur-en-virtuel-2021-05-24/
LOCATION:Plateforme Zoom\, Canada
END:VEVENT
END:VCALENDAR