BEGIN:VCALENDAR
VERSION:2.0
PRODID:-//Centre Pauline-Charron - ECPv5.8.0//NONSGML v1.0//EN
CALSCALE:GREGORIAN
METHOD:PUBLISH
X-WR-CALNAME:Centre Pauline-Charron
X-ORIGINAL-URL:https://www.lecpc.ca
X-WR-CALDESC:évènements pour Centre Pauline-Charron
BEGIN:VTIMEZONE
TZID:America/Toronto
BEGIN:DAYLIGHT
TZOFFSETFROM:-0500
TZOFFSETTO:-0400
TZNAME:EDT
DTSTART:20200308T070000
END:DAYLIGHT
BEGIN:STANDARD
TZOFFSETFROM:-0400
TZOFFSETTO:-0500
TZNAME:EST
DTSTART:20201101T060000
END:STANDARD
END:VTIMEZONE
BEGIN:VEVENT
DTSTART;TZID=America/Toronto:20201020T133000
DTEND;TZID=America/Toronto:20201020T150000
DTSTAMP:20210722T122844
CREATED:20201017T194114Z
LAST-MODIFIED:20201017T194114Z
UID:2435-1603200600-1603206000@www.lecpc.ca
SUMMARY:Cours de Qi-Gong
DESCRIPTION:Qi-Gong – 13 h 30 – 15 h\nCoût : 50 $ (m) 60 $ (i)\nPlateforme : Zoom ou sur place CPC\nInstructeure : Nicole Beaulac\nAfin de respecter les directives imposées par la province\, les conditions suivantes\nsont en vigueur :\n– distanciation sociale et physique: 2 mètres entre les personnes\n– le port du masque est obligatoire\nInscription requise pour recevoir le lien
URL:https://www.lecpc.ca/activite/cours-de-qi-gong/2020-10-20/
LOCATION:Plateforme Zoom\, Canada
END:VEVENT
END:VCALENDAR