BEGIN:VCALENDAR
VERSION:2.0
PRODID:-//Centre Pauline-Charron - ECPv5.8.0//NONSGML v1.0//EN
CALSCALE:GREGORIAN
METHOD:PUBLISH
X-WR-CALNAME:Centre Pauline-Charron
X-ORIGINAL-URL:https://www.lecpc.ca
X-WR-CALDESC:évènements pour Centre Pauline-Charron
BEGIN:VTIMEZONE
TZID:America/Toronto
BEGIN:DAYLIGHT
TZOFFSETFROM:-0500
TZOFFSETTO:-0400
TZNAME:EDT
DTSTART:20200308T070000
END:DAYLIGHT
BEGIN:STANDARD
TZOFFSETFROM:-0400
TZOFFSETTO:-0500
TZNAME:EST
DTSTART:20201101T060000
END:STANDARD
END:VTIMEZONE
BEGIN:VEVENT
DTSTART;TZID=America/Toronto:20201215T130000
DTEND;TZID=America/Toronto:20201215T143000
DTSTAMP:20210722T123358
CREATED:20201111T020636Z
LAST-MODIFIED:20201111T020636Z
UID:2734-1608037200-1608042600@www.lecpc.ca
SUMMARY:Cours de Qi-Gong session 2
DESCRIPTION:13 h – 14 h 30\nDébut : 17 novembre – 22 décembre (6 sessions)\n \nLe Qi-Gong (prononce Chi Kung) est une forme d’exercices traditionnels chinois reposant sur la\nconnaissance et la maîtrise de l’énergie vitale et consistant en des mouvements lents ainsi que des exercices de respiration\, de méditation et de concentration. La pratique du Qi-Gong permet d’assouplir les structures du corps et les articulations\, d’améliorer la santé et la vitalité\, et de favoriser la relaxation. Le Qi-Gong peut être pratiqué debout ou assis.\n \nCe cours est offert au Centre ou via la plateforme Zoom.\n\nCoût : 40 $ (m) 55 $ (i) Min. 10 pers. / max. 40 pers.\n \nInsctruteure : Nicole Beaulac\n 
URL:https://www.lecpc.ca/activite/cours-de-qi-gong-session-2/2020-12-15/
END:VEVENT
END:VCALENDAR