BEGIN:VCALENDAR
VERSION:2.0
PRODID:-//Centre Pauline-Charron - ECPv5.8.0//NONSGML v1.0//EN
CALSCALE:GREGORIAN
METHOD:PUBLISH
X-WR-CALNAME:Centre Pauline-Charron
X-ORIGINAL-URL:https://www.lecpc.ca
X-WR-CALDESC:évènements pour Centre Pauline-Charron
BEGIN:VTIMEZONE
TZID:America/Toronto
BEGIN:DAYLIGHT
TZOFFSETFROM:-0500
TZOFFSETTO:-0400
TZNAME:EDT
DTSTART:20210314T070000
END:DAYLIGHT
BEGIN:STANDARD
TZOFFSETFROM:-0400
TZOFFSETTO:-0500
TZNAME:EST
DTSTART:20211107T060000
END:STANDARD
END:VTIMEZONE
BEGIN:VEVENT
DTSTART;TZID=America/Toronto:20210511T100000
DTEND;TZID=America/Toronto:20210511T153000
DTSTAMP:20210723T041424
CREATED:20210413T185338Z
LAST-MODIFIED:20210510T172825Z
UID:4525-1620727200-1620747000@www.lecpc.ca
SUMMARY:Conférence - Prévoir pour votre exécuteur en mode virtuel -ANNULÉE
DESCRIPTION:CONFÉRENCE EN MODE VIRTUEL \nPRÉVOIR POUR VOTRE EXÉCUTEUR \nMardi 11 mai 2021 \n à 10 h \nConférencier : Daniel Laflamme\, Conseiller en préarrangements\, Maison Funéraire Racine\, Robert & Gauthier Beauchamp \nIl est également possible de recevoir sur demande\, tout  à fait gratuitement\, un Dossier de planification personnelle afin d’organiser les informations pertinent à votre succession.                       \nActivité gratuite \n  \nInscription : www.lecpc.ca BILLETTERIE ou par téléphone au secrétariat du Centre Pauline-Charron  613 741-0562  avant lundi 10 mai pour recevoir l’invitation. \nPour  de plus amples renseignements communiquer avec Céline Brousseau\, Responsable de la programmation (programmation@lecpc.ca) \n 
URL:https://www.lecpc.ca/activite/conference-prevoir-pour-votre-executeur-en-mode-virtuel/
LOCATION:Plateforme Zoom\, Canada
END:VEVENT
END:VCALENDAR