BEGIN:VCALENDAR
VERSION:2.0
PRODID:-//Centre Pauline-Charron - ECPv5.8.0//NONSGML v1.0//EN
CALSCALE:GREGORIAN
METHOD:PUBLISH
X-WR-CALNAME:Centre Pauline-Charron
X-ORIGINAL-URL:https://www.lecpc.ca
X-WR-CALDESC:évènements pour Centre Pauline-Charron
BEGIN:VTIMEZONE
TZID:America/Toronto
BEGIN:DAYLIGHT
TZOFFSETFROM:-0500
TZOFFSETTO:-0400
TZNAME:EDT
DTSTART:20210314T070000
END:DAYLIGHT
BEGIN:STANDARD
TZOFFSETFROM:-0400
TZOFFSETTO:-0500
TZNAME:EST
DTSTART:20211107T060000
END:STANDARD
END:VTIMEZONE
BEGIN:VEVENT
DTSTART;TZID=America/Toronto:20210514T104500
DTEND;TZID=America/Toronto:20210514T120000
DTSTAMP:20210723T041405
CREATED:20210413T172230Z
LAST-MODIFIED:20210413T185527Z
UID:4518-1620989100-1620993600@www.lecpc.ca
SUMMARY:Conférence Dre Corriveau - Les maux de dos et les douleurs sciatiques en mode virtuel
DESCRIPTION:Conférence – Les maux de dos et les douleurs sciatiques \nConférencière : Dre Corriveau \nLe vendredi 14 mai à 10 h 45 \nLa présentation a pour but de démystifier les douleurs au dos\, leur origine\, leur lien avec les douleurs sciatiques et leurs traitements et surtout\, de répondre à vos questions sur le sujet! \nCoût:  3 $ membre / 6 $ invité(e)
URL:https://www.lecpc.ca/activite/conference-dre-corriveau-les-maux-de-dos-et-les-douleurs-sciatiques/
LOCATION:Plateforme Zoom\, Canada
END:VEVENT
END:VCALENDAR