BEGIN:VCALENDAR
VERSION:2.0
PRODID:-//Centre Pauline-Charron - ECPv5.8.0//NONSGML v1.0//EN
CALSCALE:GREGORIAN
METHOD:PUBLISH
X-WR-CALNAME:Centre Pauline-Charron
X-ORIGINAL-URL:https://www.lecpc.ca
X-WR-CALDESC:évènements pour Centre Pauline-Charron
BEGIN:VTIMEZONE
TZID:America/Toronto
BEGIN:DAYLIGHT
TZOFFSETFROM:-0500
TZOFFSETTO:-0400
TZNAME:EDT
DTSTART:20210314T070000
END:DAYLIGHT
BEGIN:STANDARD
TZOFFSETFROM:-0400
TZOFFSETTO:-0500
TZNAME:EST
DTSTART:20211107T060000
END:STANDARD
END:VTIMEZONE
BEGIN:VEVENT
DTSTART;TZID=America/Toronto:20210618T104500
DTEND;TZID=America/Toronto:20210618T120000
DTSTAMP:20210723T041415
CREATED:20210413T172805Z
LAST-MODIFIED:20210413T185420Z
UID:4520-1624013100-1624017600@www.lecpc.ca
SUMMARY:Conférence Dre Corriveau - Démystifier sa santé en mode virtuel
DESCRIPTION:Conférence – Démystifier sa santéConférencière :  Dre Corriveau \nLe vendredi 18 juin à 10 h 45 \nLa présentation a pour but de vous aider à mieux écouter et observer votre corps pour éviter certains problèmes de santé. \nCoût : 3 $ membre / 6 $ invité(e) \n  \n 
URL:https://www.lecpc.ca/activite/conference-dre-corriveau-demystifier-sa-sante/
LOCATION:Plateforme Zoom\, Canada
END:VEVENT
END:VCALENDAR