BEGIN:VCALENDAR
VERSION:2.0
PRODID:-//Centre Pauline-Charron - ECPv5.8.0//NONSGML v1.0//EN
CALSCALE:GREGORIAN
METHOD:PUBLISH
X-WR-CALNAME:Centre Pauline-Charron
X-ORIGINAL-URL:https://www.lecpc.ca
X-WR-CALDESC:évènements pour Centre Pauline-Charron
BEGIN:VTIMEZONE
TZID:America/Toronto
BEGIN:DAYLIGHT
TZOFFSETFROM:-0500
TZOFFSETTO:-0400
TZNAME:EDT
DTSTART:20200308T070000
END:DAYLIGHT
BEGIN:STANDARD
TZOFFSETFROM:-0400
TZOFFSETTO:-0500
TZNAME:EST
DTSTART:20201101T060000
END:STANDARD
END:VTIMEZONE
BEGIN:VEVENT
DTSTART;TZID=America/Toronto:20201030T190000
DTEND;TZID=America/Toronto:20201030T203000
DTSTAMP:20210722T123100
CREATED:20201028T132807Z
LAST-MODIFIED:20201028T133311Z
UID:2663-1604084400-1604089800@www.lecpc.ca
SUMMARY:Concert Bistro - REPORTÉ
DESCRIPTION:Trois voix et milles souvenirs…. \nÀ la suite des nouvelles consignes de santé\, le CPC doit reporter le Concert Bistro qui avait été prévu pour le 30 octobre et le 1er novembre. Nous communiquerons les nouvelles dates dès que nous pourrons offrir des spectacles au Centre.
URL:https://www.lecpc.ca/activite/concert-bistro-reporte/
CATEGORIES:Activité spéciale,Concert
END:VEVENT
END:VCALENDAR