BEGIN:VCALENDAR
VERSION:2.0
PRODID:-//Centre Pauline-Charron - ECPv5.8.0//NONSGML v1.0//EN
CALSCALE:GREGORIAN
METHOD:PUBLISH
X-WR-CALNAME:Centre Pauline-Charron
X-ORIGINAL-URL:https://www.lecpc.ca
X-WR-CALDESC:évènements pour Centre Pauline-Charron
BEGIN:VTIMEZONE
TZID:America/Toronto
BEGIN:DAYLIGHT
TZOFFSETFROM:-0500
TZOFFSETTO:-0400
TZNAME:EDT
DTSTART:20200308T070000
END:DAYLIGHT
BEGIN:STANDARD
TZOFFSETFROM:-0400
TZOFFSETTO:-0500
TZNAME:EST
DTSTART:20201101T060000
END:STANDARD
END:VTIMEZONE
BEGIN:VEVENT
DTSTART;TZID=America/Toronto:20201209T130000
DTEND;TZID=America/Toronto:20201209T140000
DTSTAMP:20210722T123506
CREATED:20201125T154231Z
LAST-MODIFIED:20201125T154231Z
UID:2757-1607518800-1607522400@www.lecpc.ca
SUMMARY:Célébrons Noël avec la Tournée du bonheur
DESCRIPTION:CÉLÉBRONS NOËL AVEC LA TOURNÉE DU BONHEUR\nMercredi 9 décembre\n13 h \nRepas à midi\nPoulet à la King\, tourtière\, patates\, légumes\, dessert et café ou thé. \nSpectacle : La tournée du bonheur \nCoût : spectacle seulement 30 $ membre / 40 $ invité\nCoût : spectacle et repas 40 $ membre / 50 $ invité
URL:https://www.lecpc.ca/activite/celebrons-noel-avec-la-tournee-du-bonheur/
LOCATION:Centre Pauline-Charron\, 164\, rue Jeanne-Mance\, Ottawa\, Ontario\, K1L 6M3\, Canada
CATEGORIES:Activité spéciale
END:VEVENT
END:VCALENDAR