BEGIN:VCALENDAR
VERSION:2.0
PRODID:-//Centre Pauline-Charron - ECPv5.3.1.1//NONSGML v1.0//EN
CALSCALE:GREGORIAN
METHOD:PUBLISH
X-WR-CALNAME:Centre Pauline-Charron
X-ORIGINAL-URL:https://www.lecpc.ca
X-WR-CALDESC:évènements pour Centre Pauline-Charron
BEGIN:VTIMEZONE
TZID:America/Toronto
BEGIN:DAYLIGHT
TZOFFSETFROM:-0500
TZOFFSETTO:-0400
TZNAME:EDT
DTSTART:20210314T070000
END:DAYLIGHT
BEGIN:STANDARD
TZOFFSETFROM:-0400
TZOFFSETTO:-0500
TZNAME:EST
DTSTART:20211107T060000
END:STANDARD
END:VTIMEZONE
BEGIN:VEVENT
DTSTART;TZID=America/Toronto:20210304T131500
DTEND;TZID=America/Toronto:20210304T151500
DTSTAMP:20210422T110737
CREATED:20210222T212018Z
LAST-MODIFIED:20210406T201214Z
UID:3649-1614863700-1614870900@www.lecpc.ca
SUMMARY:Bunka - ANNULÉE TEMPORAIREMENT
DESCRIPTION:Bunka  – ANNULÉE TEMPORAIREMENT \n                                                         \nHeure : 13 h 15 – 15 h 15 (Nouvelle session 25 février au 29 avril) \nL’art de la broderie japonaise \nCoût : 96 $ (m) 115 $ (i)  \nResponsable : Rita Lupien \nAfin de respecter les directives imposées par la province\, les conditions suivantes sont en vigueur: \n– distanciation sociale et physique: 2 mètres entre les personnes \n– le port du masque est obligatoire
URL:https://www.lecpc.ca/activite/bunka/2021-03-04/
LOCATION:Centre Pauline-Charron\, 164\, rue Jeanne-Mance\, Ottawa\, Ontario\, K1L 6M3\, Canada
END:VEVENT
END:VCALENDAR